BEGIN:VCALENDAR
VERSION:2.0
PRODID:-//M&amp;D Enseñanzas artísticas - ECPv6.15.17.1//NONSGML v1.0//EN
CALSCALE:GREGORIAN
METHOD:PUBLISH
X-WR-CALNAME:M&amp;D Enseñanzas artísticas
X-ORIGINAL-URL:https://musica-danza.com
X-WR-CALDESC:Eventos para M&amp;D Enseñanzas artísticas
REFRESH-INTERVAL;VALUE=DURATION:PT1H
X-Robots-Tag:noindex
X-PUBLISHED-TTL:PT1H
BEGIN:VTIMEZONE
TZID:UTC
BEGIN:STANDARD
TZOFFSETFROM:+0000
TZOFFSETTO:+0000
TZNAME:UTC
DTSTART:20240101T000000
END:STANDARD
END:VTIMEZONE
BEGIN:VEVENT
DTSTART;TZID=UTC:20250615T203000
DTEND;TZID=UTC:20250615T223000
DTSTAMP:20260420T020255
CREATED:20251110T125559Z
LAST-MODIFIED:20251110T135545Z
UID:1011-1750019400-1750026600@musica-danza.com
SUMMARY:III ENCUENTRO DE BANDAS
DESCRIPTION:Este tercer encuentro de bandas estará protagonizado por:  \n\n\n\n\nBanda E.M.M de Rivas\, dirigida por D. Juan Martínez Sanz\n\n\n\nBanda E.M.M.D de Villanueva de la Cañada\, dirigida por D. Javier Domingo Expósito
URL:https://musica-danza.com/evento/iii-encuentro-de-bandas/
LOCATION:C.C. La Despernada\, Calle Olivar\, 10\, Villanueva de la Cañada\, Madrid\, Madrid\, 28691\, Spain
ATTACH;FMTTYPE=image/avif:https://musica-danza.com/wp-content/uploads/2025/11/tercer_encuentro-bandas.avif
ORGANIZER;CN="E.M.M.D Villanueva de la Ca%C3%B1ada":MAILTO:edehijes@ayto-villacanada.es
END:VEVENT
END:VCALENDAR