BEGIN:VCALENDAR
VERSION:2.0
PRODID:-//M&amp;D Enseñanzas artísticas - ECPv6.15.17.1//NONSGML v1.0//EN
CALSCALE:GREGORIAN
METHOD:PUBLISH
X-ORIGINAL-URL:https://musica-danza.com
X-WR-CALDESC:Eventos para M&amp;D Enseñanzas artísticas
REFRESH-INTERVAL;VALUE=DURATION:PT1H
X-Robots-Tag:noindex
X-PUBLISHED-TTL:PT1H
BEGIN:VTIMEZONE
TZID:UTC
BEGIN:STANDARD
TZOFFSETFROM:+0000
TZOFFSETTO:+0000
TZNAME:UTC
DTSTART:20250101T000000
END:STANDARD
END:VTIMEZONE
BEGIN:VEVENT
DTSTART;TZID=UTC:20260305T180000
DTEND;TZID=UTC:20260305T193000
DTSTAMP:20260419T220936
CREATED:20260303T105229Z
LAST-MODIFIED:20260305T193439Z
UID:1413-1772733600-1772739000@musica-danza.com
SUMMARY:AUDICIÓN DE PERCUSIÓN
DESCRIPTION:
URL:https://musica-danza.com/evento/audicion-de-percusion/
LOCATION:Centro Cultural La Despernada\, c/ Olivar 10\, Villanueva de la Cañada
ATTACH;FMTTYPE=image/jpeg:https://musica-danza.com/wp-content/uploads/2026/03/audicion-percusion-5-marzo-2026-18.30h.jpg
END:VEVENT
BEGIN:VEVENT
DTSTART;TZID=UTC:20260310T193000
DTEND;TZID=UTC:20260310T193000
DTSTAMP:20260419T220936
CREATED:20260305T192841Z
LAST-MODIFIED:20260305T193256Z
UID:1424-1773171000-1773171000@musica-danza.com
SUMMARY:CONCIERTO BANDA
DESCRIPTION:Música y Cine
URL:https://musica-danza.com/evento/concierto-banda/
LOCATION:Centro Cultural La Despernada\, Olivar 10\, Villanueva de la Cañada\, 28691
ATTACH;FMTTYPE=application/pdf:https://musica-danza.com/wp-content/uploads/2026/03/banda-cine-10-de-marzo.pdf
END:VEVENT
BEGIN:VEVENT
DTSTART;TZID=UTC:20260318T190000
DTEND;TZID=UTC:20260318T190000
DTSTAMP:20260419T220936
CREATED:20260316T105604Z
LAST-MODIFIED:20260316T105737Z
UID:1441-1773860400-1773860400@musica-danza.com
SUMMARY:AUDICIÓN DE PIANO
DESCRIPTION:
URL:https://musica-danza.com/evento/audicion-de-piano/
LOCATION:Centro Cultural La Despernada\, c/ Olivar 10\, Villanueva de la Cañada
ATTACH;FMTTYPE=application/pdf:https://musica-danza.com/wp-content/uploads/2026/03/PIANO-18-DE-MARZO.pdf
END:VEVENT
BEGIN:VEVENT
DTSTART;TZID=UTC:20260323T183000
DTEND;TZID=UTC:20260323T183000
DTSTAMP:20260419T220936
CREATED:20260317T105226Z
LAST-MODIFIED:20260317T105227Z
UID:1448-1774290600-1774290600@musica-danza.com
SUMMARY:AUDICIÓN DE LENGUAJE MUSICAL
DESCRIPTION:
URL:https://musica-danza.com/evento/audicion-de-lenguaje-musical/
LOCATION:Centro Cultural La Despernada\, c/ Olivar 10\, Villanueva de la Cañada
ATTACH;FMTTYPE=application/pdf:https://musica-danza.com/wp-content/uploads/2026/03/lm-23-marzo-1.pdf
END:VEVENT
BEGIN:VEVENT
DTSTART;TZID=UTC:20260324T183000
DTEND;TZID=UTC:20260324T183000
DTSTAMP:20260419T220936
CREATED:20260317T105714Z
LAST-MODIFIED:20260317T105749Z
UID:1454-1774377000-1774377000@musica-danza.com
SUMMARY:AUDICIÓN DE VIOLÍN y VIOLA
DESCRIPTION:
URL:https://musica-danza.com/evento/1454/
LOCATION:Centro Cultural La Despernada\, c/ Olivar 10\, Villanueva de la Cañada
ATTACH;FMTTYPE=application/pdf:https://musica-danza.com/wp-content/uploads/2026/03/violin-viola-1-2.pdf
END:VEVENT
BEGIN:VEVENT
DTSTART;TZID=UTC:20260326T190000
DTEND;TZID=UTC:20260326T190000
DTSTAMP:20260419T220936
CREATED:20260325T180509Z
LAST-MODIFIED:20260325T180510Z
UID:1459-1774551600-1774551600@musica-danza.com
SUMMARY:AUDICIÓN DE GUITARRA
DESCRIPTION:
URL:https://musica-danza.com/evento/audicion-de-guitarra/
LOCATION:Centro Cultural La Despernada\, c/ Olivar 10\, Villanueva de la Cañada
ATTACH;FMTTYPE=application/pdf:https://musica-danza.com/wp-content/uploads/2026/03/guitarra-26-de-marzo-2.pdf
END:VEVENT
END:VCALENDAR