BEGIN:VCALENDAR
VERSION:2.0
PRODID:-//M&amp;D Enseñanzas artísticas - ECPv6.15.17.1//NONSGML v1.0//EN
CALSCALE:GREGORIAN
METHOD:PUBLISH
X-ORIGINAL-URL:https://musica-danza.com
X-WR-CALDESC:Eventos para M&amp;D Enseñanzas artísticas
REFRESH-INTERVAL;VALUE=DURATION:PT1H
X-Robots-Tag:noindex
X-PUBLISHED-TTL:PT1H
BEGIN:VTIMEZONE
TZID:UTC
BEGIN:STANDARD
TZOFFSETFROM:+0000
TZOFFSETTO:+0000
TZNAME:UTC
DTSTART:20250101T000000
END:STANDARD
END:VTIMEZONE
BEGIN:VEVENT
DTSTART;TZID=UTC:20260326T190000
DTEND;TZID=UTC:20260326T190000
DTSTAMP:20260419T151057
CREATED:20260325T180509Z
LAST-MODIFIED:20260325T180510Z
UID:1459-1774551600-1774551600@musica-danza.com
SUMMARY:AUDICIÓN DE GUITARRA
DESCRIPTION:
URL:https://musica-danza.com/evento/audicion-de-guitarra/
LOCATION:Centro Cultural La Despernada\, c/ Olivar 10\, Villanueva de la Cañada
ATTACH;FMTTYPE=application/pdf:https://musica-danza.com/wp-content/uploads/2026/03/guitarra-26-de-marzo-2.pdf
END:VEVENT
END:VCALENDAR